BEGIN:VCALENDAR
VERSION:2.0
PRODID:-//Cristiano Nogueira - ECPv6.15.11//NONSGML v1.0//EN
CALSCALE:GREGORIAN
METHOD:PUBLISH
X-ORIGINAL-URL:https://cristiano.etc.br
X-WR-CALDESC:Eventos para Cristiano Nogueira
REFRESH-INTERVAL;VALUE=DURATION:PT1H
X-Robots-Tag:noindex
X-PUBLISHED-TTL:PT1H
BEGIN:VTIMEZONE
TZID:America/Sao_Paulo
BEGIN:STANDARD
TZOFFSETFROM:-0200
TZOFFSETTO:-0300
TZNAME:-03
DTSTART:20160221T020000
END:STANDARD
BEGIN:DAYLIGHT
TZOFFSETFROM:-0300
TZOFFSETTO:-0200
TZNAME:-02
DTSTART:20161016T030000
END:DAYLIGHT
BEGIN:STANDARD
TZOFFSETFROM:-0200
TZOFFSETTO:-0300
TZNAME:-03
DTSTART:20170219T020000
END:STANDARD
BEGIN:DAYLIGHT
TZOFFSETFROM:-0300
TZOFFSETTO:-0200
TZNAME:-02
DTSTART:20171015T030000
END:DAYLIGHT
BEGIN:STANDARD
TZOFFSETFROM:-0200
TZOFFSETTO:-0300
TZNAME:-03
DTSTART:20180218T020000
END:STANDARD
BEGIN:DAYLIGHT
TZOFFSETFROM:-0300
TZOFFSETTO:-0200
TZNAME:-02
DTSTART:20181104T030000
END:DAYLIGHT
BEGIN:STANDARD
TZOFFSETFROM:-0200
TZOFFSETTO:-0300
TZNAME:-03
DTSTART:20190217T020000
END:STANDARD
END:VTIMEZONE
BEGIN:VEVENT
DTSTART;TZID=America/Sao_Paulo:20200318T083000
DTEND;TZID=America/Sao_Paulo:20200318T230000
DTSTAMP:20260423T162604
CREATED:20200307T004245Z
LAST-MODIFIED:20200307T004245Z
UID:2600-1584520200-1584572400@cristiano.etc.br
SUMMARY:Cristiano Nogueira - Autorais Clube
DESCRIPTION:A agenda de 2020 começou bonita!\nEu e @milenatorresmusica\, ambos comemorando 30 anos de atuação na música\, apresentaremos nossos shows no nosso centro de referencia em musica boa: O Bar do Museu Clube da Esquina\, com seu projeto Quarta Autoral.\nMilena se apresentará acompanhada de @raydiyacy e eu me apresentarei acompanhado de @pamelamel_ .\nVai ser lindo\, emocionante e imperdível! \n– Quarta Autoral com Cristiano Nogueira e Milena Torres\nDia 18/03/2020\n@bardomuseuclubedaesquina\nÁ partir de 20:30\nR$10\,00
URL:https://cristiano.etc.br/evento/cristiano-nogueira-autorais-clube/
LOCATION:Bar do Museu Clube da Esquina\, Rua Paraisópolis\, Belo Horizonte\, MG\, Brasil
CATEGORIES:Shows
ATTACH;FMTTYPE=image/jpeg:https://cristiano.etc.br/wp-content/uploads/2020/03/Cristiano-Milena-Bar-do-Museu-1.jpg
END:VEVENT
BEGIN:VEVENT
DTSTART;TZID=America/Sao_Paulo:20191230T170000
DTEND;TZID=America/Sao_Paulo:20191230T220000
DTSTAMP:20260423T162604
CREATED:20200307T000247Z
LAST-MODIFIED:20200307T000247Z
UID:2583-1577725200-1577743200@cristiano.etc.br
SUMMARY:Ensaio Aberto em Milho Verde
DESCRIPTION:Eu e Pamela Mel finalizando 2019 em grande estilo\, em Milho Verde- MG. \nQuem estiver por perto está super convidado! \nO evento será no Terra Cora\, do querido Daniel Nebias.
URL:https://cristiano.etc.br/evento/ensaio-aberto-em-milho-verde/
LOCATION:Milho Verde\, MG\, Brasil
CATEGORIES:Shows,Viagens
ATTACH;FMTTYPE=image/jpeg:https://cristiano.etc.br/wp-content/uploads/2020/03/Cristiano-Nogueira-Pamela-Mel-Milho-Verde.jpg
END:VEVENT
BEGIN:VEVENT
DTSTART;TZID=America/Sao_Paulo:20191203T200000
DTEND;TZID=America/Sao_Paulo:20191203T230000
DTSTAMP:20260423T162604
CREATED:20191114T162010Z
LAST-MODIFIED:20191114T162010Z
UID:2535-1575403200-1575414000@cristiano.etc.br
SUMMARY:Apresentação @ Sarau #tranquilobh
DESCRIPTION:Já ouviu falar deste rolé? Não? Procure saber! \nMe apresentarei na edição do dia 03 de dezembro. Imperdível! \nA localização só é revelada na véspera… \nEm breve mais novidades!
URL:https://cristiano.etc.br/evento/apresentacao-sarau-tranquilobh/
LOCATION:MG
CATEGORIES:Shows
ATTACH;FMTTYPE=image/jpeg:https://cristiano.etc.br/wp-content/uploads/2019/10/Banner-Tranquilo-640.jpg
END:VEVENT
BEGIN:VEVENT
DTSTART;TZID=America/Sao_Paulo:20191114T100000
DTEND;TZID=America/Sao_Paulo:20191116T203000
DTSTAMP:20260423T162604
CREATED:20191114T164939Z
LAST-MODIFIED:20191114T165001Z
UID:2539-1573725600-1573936200@cristiano.etc.br
SUMMARY:Música Mundo 2019
DESCRIPTION:A Prefeitura de Belo Horizonte\, por meio da Secretaria Municipal de Cultura\, a MGS\, e o Banco do Brasil apresentam: \nFeira internacional de négócios em música. \nPelo quarto ano: Vamos lá fazer contatos e negócios!
URL:https://cristiano.etc.br/evento/musica-mundo-2019/
LOCATION:CCBB Belo Horizonte
CATEGORIES:Festivais
ATTACH;FMTTYPE=image/png:https://cristiano.etc.br/wp-content/uploads/2019/11/banner-musica-mundo.png
END:VEVENT
BEGIN:VEVENT
DTSTART;TZID=America/Sao_Paulo:20191023T210000
DTEND;TZID=America/Sao_Paulo:20191023T230000
DTSTAMP:20260423T162604
CREATED:20191014T161555Z
LAST-MODIFIED:20191114T163931Z
UID:2531-1571864400-1571871600@cristiano.etc.br
SUMMARY:Apresentação @ Bar do Museu Clube da Esquina
DESCRIPTION:A boa música nunca deixou de brotar por aqui. É uma das coisas mais bonitas e poderosas que produzimos.\nO Bar do Museu Clube da Esquina sabe bem!\nNa próxima quarta dia 23\, estarei no palco de um dos nossos maiores centros de referencia em música fóda.\nSó de alegria\, vou apresentar “As Músicas Que Você Ainda Não Conhece” inteiro. A versão completa do show! Interirinho! \nBóra lá?\nColoque na agenda!
URL:https://cristiano.etc.br/evento/concerto-bar-do-museu-clube-da-esquina/
LOCATION:Bar do Museu Clube da Esquina\, Rua Paraisópolis\, Belo Horizonte\, MG\, Brasil
CATEGORIES:Shows
ATTACH;FMTTYPE=image/jpeg:https://cristiano.etc.br/wp-content/uploads/2019/10/Cristiano-Nogueira-Clube-da-Esquina.jpg
END:VEVENT
BEGIN:VEVENT
DTSTART;TZID=America/Sao_Paulo:20190907T140000
DTEND;TZID=America/Sao_Paulo:20190907T233000
DTSTAMP:20260423T162604
CREATED:20191114T162452Z
LAST-MODIFIED:20191114T162701Z
UID:2537-1567864800-1567899000@cristiano.etc.br
SUMMARY:Apresentação @ Festival Re-Vide 2019
DESCRIPTION:Que a música autoral está em fase meteorizante\, está claro pra quem quer ver\, né. 👀 Vamos pegar carona nessa cauda de cometa! ❇\n☛ O Re-vide é a festa da arte original ☚\nMúsica\, artes plásticas\, literatura\, teatro e poesia. \nImperdível!\nAntecipado é mais barato\, e eu ainda tenho ingresso!\nBóra!
URL:https://cristiano.etc.br/evento/apresentacao-festival-re-vide-2019/
LOCATION:MG
CATEGORIES:Shows
ATTACH;FMTTYPE=image/jpeg:https://cristiano.etc.br/wp-content/uploads/2019/09/Clipping-Re-Vide.jpeg
END:VEVENT
BEGIN:VEVENT
DTSTART;TZID=America/Sao_Paulo:20190515T200000
DTEND;TZID=America/Sao_Paulo:20190515T233000
DTSTAMP:20260423T162604
CREATED:20191114T165924Z
LAST-MODIFIED:20191114T172633Z
UID:2546-1557950400-1557963000@cristiano.etc.br
SUMMARY:Apresentação Sessão ColaBHprassom @ A'Autentica - B.Hte. MG
DESCRIPTION:Vamo vamo vamo!\nÉ quarta feira\, 20:00! \nSessão Colabhorasom #23 com shows de Emílio Dragão e Priscilla Glenda\, Cristiano Nogueira e Toninho Batista. O evento é GRATUIITO\, mas você pode colabhorar com a caixinha. \n#Colabhorasom #AAutentica #CristianoNogueira
URL:https://cristiano.etc.br/evento/apresentacao-sessao-colabhprassom-aautentica-b-hte-mg/
LOCATION:A Autentica\, Belo Horizonte\, Brasil
CATEGORIES:Shows
ATTACH;FMTTYPE=image/jpeg:https://cristiano.etc.br/wp-content/uploads/2019/05/Clipping-Autentica-02-19_05_15.jpg
END:VEVENT
BEGIN:VEVENT
DTSTART;TZID=America/Sao_Paulo:20190329T210000
DTEND;TZID=America/Sao_Paulo:20190329T223000
DTSTAMP:20260423T162604
CREATED:20191114T172402Z
LAST-MODIFIED:20191114T172402Z
UID:2566-1553893200-1553898600@cristiano.etc.br
SUMMARY:Apresentação @ Escola Municipal Luiz Gatti
DESCRIPTION:Quarta da série de quatro apresentações que realizarei em contrapartida social à Secretaria de Cultura do Estado de Minas Gerais.
URL:https://cristiano.etc.br/evento/apresentacao-escola-municipal-luiz-gatti-2/
LOCATION:MG
CATEGORIES:Shows
ATTACH;FMTTYPE=image/jpeg:https://cristiano.etc.br/wp-content/uploads/2019/11/20190329_210340-1.jpg
END:VEVENT
BEGIN:VEVENT
DTSTART;TZID=America/Sao_Paulo:20190328T130000
DTEND;TZID=America/Sao_Paulo:20190328T170000
DTSTAMP:20260423T162604
CREATED:20191114T171921Z
LAST-MODIFIED:20191114T172011Z
UID:2562-1553778000-1553792400@cristiano.etc.br
SUMMARY:Apresentação @ Escola Municipal Luiz Gatti
DESCRIPTION:Terceira da série de quatro apresentações que realizarei em contrapartida social à Secretaria de Cultura do Estado de Minas Gerais.
URL:https://cristiano.etc.br/evento/apresentacao-escola-municipal-luiz-gatti/
LOCATION:MG
CATEGORIES:Shows
ATTACH;FMTTYPE=image/jpeg:https://cristiano.etc.br/wp-content/uploads/2019/11/20190328_164333.jpg
END:VEVENT
BEGIN:VEVENT
DTSTART;TZID=America/Sao_Paulo:20190326T090000
DTEND;TZID=America/Sao_Paulo:20190326T110000
DTSTAMP:20260423T162604
CREATED:20191114T171609Z
LAST-MODIFIED:20191114T171609Z
UID:2559-1553590800-1553598000@cristiano.etc.br
SUMMARY:Apresentação @ Escola Estadual Cândido Portinari
DESCRIPTION:Segunda da série de quatro apresentações que realizarei em contrapartida social à Secretaria de Cultura do Estado de Minas Gerais.
URL:https://cristiano.etc.br/evento/apresentacao-escola-estadual-candido-portinari/
LOCATION:MG
CATEGORIES:Shows
ATTACH;FMTTYPE=image/jpeg:https://cristiano.etc.br/wp-content/uploads/2019/11/20190326_100407.jpg
END:VEVENT
BEGIN:VEVENT
DTSTART;TZID=America/Sao_Paulo:20190319T090000
DTEND;TZID=America/Sao_Paulo:20190319T110000
DTSTAMP:20260423T162604
CREATED:20191114T171246Z
LAST-MODIFIED:20191114T171246Z
UID:2555-1552986000-1552993200@cristiano.etc.br
SUMMARY:Apresentação @ Escola Estadual Carvalho Brito
DESCRIPTION:Primeira da série de quatro apresentações que realizarei em contrapartida social à Secretaria de Cultura do Estado de Minas Gerais.
URL:https://cristiano.etc.br/evento/apresentacao-escola-estadual-carvalho-brito/
LOCATION:MG
CATEGORIES:Shows
ATTACH;FMTTYPE=image/jpeg:https://cristiano.etc.br/wp-content/uploads/2019/11/20190319_1007262.jpg
END:VEVENT
BEGIN:VEVENT
DTSTART;TZID=America/Sao_Paulo:20190223T100000
DTEND;TZID=America/Sao_Paulo:20190223T140000
DTSTAMP:20260423T162604
CREATED:20191114T170402Z
LAST-MODIFIED:20191114T170456Z
UID:2552-1550916000-1550930400@cristiano.etc.br
SUMMARY:Apresentação @ Casa do Saber
DESCRIPTION:Alegria! \nSabe onde eu tocarei minhas música amanhã? \nVocês conhecem a Casa do Saber (antiga Casa da Árvore)? Será lá! \nQuem não conhece deveria conhecer! \n“Nos idos de 2016\, moradores de rua da região oeste de Belo Horizonte construíram uma biblioteca comunitária\, um ponto de encontro para doação\, troca e leitura de livros. Fizeram também daquele ponto\, embaixo de uma mangueira\, a sua própria morada\, uma casa sem muro ou grades. Aquela era a Casa da Árvore\, incendiada em setembro de 2017. Ressurgida das cinzas\, o projeto agora se chama CASA DO SABER.” \nSe liga no recado do Douglas aí no vídeo\, que amanhã tem evento especial na #CasadoSaber entre 10:00 e 17:00. \nFica no entrocamento da avenida Barão Homem de Melo com a rua Maria Macedo\, entre os bairros Nova Suíça e Alto Barroca. Vale a visita! #CristianoNogueira#narua#casadosaber
URL:https://cristiano.etc.br/evento/2552/
LOCATION:MG
CATEGORIES:Show de Rua
ATTACH;FMTTYPE=image/jpeg:https://cristiano.etc.br/wp-content/uploads/2019/02/Casa-do-Saber-1.jpg
END:VEVENT
BEGIN:VEVENT
DTSTART;TZID=America/Sao_Paulo:20190106T200000
DTEND;TZID=America/Sao_Paulo:20190106T233000
DTSTAMP:20260423T162604
CREATED:20191114T170224Z
LAST-MODIFIED:20191114T170224Z
UID:2549-1546804800-1546817400@cristiano.etc.br
SUMMARY:Apresentação @ Orta Autoral
DESCRIPTION:Vamos começar as apresentanças de 2019?\nCheio de gás! \nNa próxima quarta dia 06\, me apresento no #OrtaAutoral e também os queridos Juliano Policarpo\, Alexandre Mestiço e Rodrigo Siqueira no Orta Bar\, bairro#FernãoDias\, atrás do #MinasShopping. \n\nSó vão!\nVai ser massa! \n#CristianoNogueira #OrtaAutoral #OrtaBar #Laboral
URL:https://cristiano.etc.br/evento/apresentacao-orta-autoral/
LOCATION:Orta Bar Cultural
CATEGORIES:Shows
ATTACH;FMTTYPE=image/jpeg:https://cristiano.etc.br/wp-content/uploads/2019/02/Orta-Autoral.jpg
END:VEVENT
BEGIN:VEVENT
DTSTART;VALUE=DATE:20180922
DTEND;VALUE=DATE:20180923
DTSTAMP:20260423T162604
CREATED:20180807T152027Z
LAST-MODIFIED:20180821T133213Z
UID:1383-1537574400-1537660799@cristiano.etc.br
SUMMARY:Prêmio de Música das Minas Gerais - Diamantina/MG - 22/09
DESCRIPTION:Setembro está agitado com! E feliz! \nFui classificado para o Premio de Música das Minas Gerais e vou me apresentar na etapa de Diamantina! \nLindo lindo lindo!
URL:https://cristiano.etc.br/evento/premio-de-musica-das-minas-gerais-diamantina-mg-22-09/
LOCATION:Diamantina\, Minas Gerais
CATEGORIES:Festivais,Shows
ATTACH;FMTTYPE=image/png:https://cristiano.etc.br/wp-content/uploads/2018/07/premio-de-musica-das-MG-300x200.png
END:VEVENT
BEGIN:VEVENT
DTSTART;VALUE=DATE:20180908
DTEND;VALUE=DATE:20180909
DTSTAMP:20260423T162604
CREATED:20180807T152700Z
LAST-MODIFIED:20180821T132947Z
UID:1388-1536364800-1536451199@cristiano.etc.br
SUMMARY:FNAC Algarve - Albufeira/PT - 08/09
DESCRIPTION:Na primeira semana de setembro inicio a minha primeira turnê internacional. \nNão há melhor lugar do que a terra mãe\, não é? \nVai acontecer na FNAC. \nEm breve mais notícias!
URL:https://cristiano.etc.br/evento/fnac-algarve-albufeira-pt-08-09/
LOCATION:FNAC Albufeira\, Albufeira\, Portugal
CATEGORIES:Shows,Turnê
ATTACH;FMTTYPE=image/jpeg:https://cristiano.etc.br/wp-content/uploads/2018/08/albufeira.jpg
END:VEVENT
BEGIN:VEVENT
DTSTART;TZID=America/Sao_Paulo:20180907T080000
DTEND;TZID=America/Sao_Paulo:20180907T170000
DTSTAMP:20260423T162604
CREATED:20180807T152816Z
LAST-MODIFIED:20180821T132906Z
UID:1390-1536307200-1536339600@cristiano.etc.br
SUMMARY:FNAC Algarve - Faro/PT - 07/09
DESCRIPTION:Na primeira semana de setembro inicio a minha primeira turnê internacional. \nNão há melhor lugar do que a terra mãe\, não é? \nVai acontecer na FNAC. \nEm breve mais notícias!
URL:https://cristiano.etc.br/evento/fnac-algarve-faro-pt-07-09/
LOCATION:FENAC Faro\, Faro\, Portugal
CATEGORIES:Shows,Turnê
ATTACH;FMTTYPE=image/jpeg:https://cristiano.etc.br/wp-content/uploads/2018/08/faro.jpg
END:VEVENT
BEGIN:VEVENT
DTSTART;VALUE=DATE:20180708
DTEND;VALUE=DATE:20180709
DTSTAMP:20260423T162604
CREATED:20180807T153213Z
LAST-MODIFIED:20180807T153213Z
UID:1392-1531008000-1531094399@cristiano.etc.br
SUMMARY:Segundo Laboral - B.Hte/MG - 08/07
DESCRIPTION:
URL:https://cristiano.etc.br/evento/segundo-laboral-b-hte-mg-08-07/
LOCATION:MG
CATEGORIES:Shows
ATTACH;FMTTYPE=image/jpeg:https://cristiano.etc.br/wp-content/uploads/2018/08/2nd-Laboral-Flyer.jpeg
END:VEVENT
BEGIN:VEVENT
DTSTART;VALUE=DATE:20180629
DTEND;VALUE=DATE:20180630
DTSTAMP:20260423T162604
CREATED:20180807T153344Z
LAST-MODIFIED:20180808T134752Z
UID:1395-1530230400-1530316799@cristiano.etc.br
SUMMARY:Roda de Compositores - Ouro Preto/MG - 29/06
DESCRIPTION:
URL:https://cristiano.etc.br/evento/encontro-de-compositores-ouro-preto-mg-29-06/
LOCATION:MG
CATEGORIES:Shows,Viagens
END:VEVENT
BEGIN:VEVENT
DTSTART;TZID=America/Sao_Paulo:20180427T080000
DTEND;TZID=America/Sao_Paulo:20180427T170000
DTSTAMP:20260423T162604
CREATED:20180807T153501Z
LAST-MODIFIED:20180807T153501Z
UID:1397-1524816000-1524848400@cristiano.etc.br
SUMMARY:Espaço Odara - B.Hte/MG - 27/04
DESCRIPTION:
URL:https://cristiano.etc.br/evento/espaco-odara-b-hte-mg-27-04/
LOCATION:MG
CATEGORIES:Shows
ATTACH;FMTTYPE=image/jpeg:https://cristiano.etc.br/wp-content/uploads/2018/04/Cristiano-Nogueira-Odara-300x200.jpg
END:VEVENT
BEGIN:VEVENT
DTSTART;VALUE=DATE:20180415
DTEND;VALUE=DATE:20180416
DTSTAMP:20260423T162604
CREATED:20180807T153606Z
LAST-MODIFIED:20180807T153606Z
UID:1399-1523750400-1523836799@cristiano.etc.br
SUMMARY:Primeiro Laboral - B.Hte/MG - 15/04
DESCRIPTION:
URL:https://cristiano.etc.br/evento/primeiro-laboral-b-hte-mg-15-04/
LOCATION:MG
CATEGORIES:Festivais,Shows
ATTACH;FMTTYPE=image/jpeg:https://cristiano.etc.br/wp-content/uploads/2018/04/Primeiro-Laboral-300x158.jpg
END:VEVENT
BEGIN:VEVENT
DTSTART;VALUE=DATE:20171104
DTEND;VALUE=DATE:20171105
DTSTAMP:20260423T162604
CREATED:20171102T124155Z
LAST-MODIFIED:20180808T135018Z
UID:1410-1509753600-1509839999@cristiano.etc.br
SUMMARY:Festival da Música de Vespasiano
DESCRIPTION:
URL:https://cristiano.etc.br/evento/festival-da-musica-de-vespasiano/
LOCATION:Nesga Nega Bar\, Vespasiano\, Minas Gerais
CATEGORIES:Festivais,Shows,Viagens
ATTACH;FMTTYPE=image/jpeg:https://cristiano.etc.br/wp-content/uploads/2017/11/Cristiano-Nogueira-Vespasiano-II-300x226.jpg
END:VEVENT
BEGIN:VEVENT
DTSTART;TZID=America/Sao_Paulo:20171027T080000
DTEND;TZID=America/Sao_Paulo:20171027T170000
DTSTAMP:20260423T162604
CREATED:20180808T134706Z
LAST-MODIFIED:20180808T134706Z
UID:1413-1509091200-1509123600@cristiano.etc.br
SUMMARY:Cristiano Nogueira no Suricato
DESCRIPTION:
URL:https://cristiano.etc.br/evento/cristiano-nogueira-no-suricato/
LOCATION:MG
CATEGORIES:Shows
ATTACH;FMTTYPE=image/jpeg:https://cristiano.etc.br/wp-content/uploads/2018/08/22780437_1673365532724665_4417502376775396342_n-300x300.jpg
END:VEVENT
BEGIN:VEVENT
DTSTART;VALUE=DATE:20171006
DTEND;VALUE=DATE:20171007
DTSTAMP:20260423T162604
CREATED:20180808T135448Z
LAST-MODIFIED:20180808T135448Z
UID:1419-1507248000-1507334399@cristiano.etc.br
SUMMARY:Show de Rua Praça da Savassi - B.Hte.
DESCRIPTION:
URL:https://cristiano.etc.br/evento/show-de-rua-praca-da-savassi-b-hte/
LOCATION:Praça da Savassi\, Belo Horizonte\, Minas Gerais
CATEGORIES:Show de Rua
ATTACH;FMTTYPE=image/jpeg:https://cristiano.etc.br/wp-content/uploads/2018/08/2b-300x200.jpg
END:VEVENT
BEGIN:VEVENT
DTSTART;TZID=America/Sao_Paulo:20170929T080000
DTEND;TZID=America/Sao_Paulo:20170929T170000
DTSTAMP:20260423T162604
CREATED:20180808T141214Z
LAST-MODIFIED:20180808T141214Z
UID:1423-1506672000-1506704400@cristiano.etc.br
SUMMARY:Festival da Canção de Elói Mendes
DESCRIPTION:
URL:https://cristiano.etc.br/evento/festival-da-cancao-de-eloi-mendes/
LOCATION:Elói Mendes\, Elói Mendes\, Minas Gerais
CATEGORIES:Festivais,Shows,Viagens
ATTACH;FMTTYPE=image/jpeg:https://cristiano.etc.br/wp-content/uploads/2018/08/Banner-Eloi-Insta-300x300.jpg
END:VEVENT
BEGIN:VEVENT
DTSTART;VALUE=DATE:20170908
DTEND;VALUE=DATE:20170909
DTSTAMP:20260423T162604
CREATED:20180808T141833Z
LAST-MODIFIED:20180808T141833Z
UID:1427-1504828800-1504915199@cristiano.etc.br
SUMMARY:Baderna Bar - Turnê São Paulo 2017
DESCRIPTION:
URL:https://cristiano.etc.br/evento/baderna-bar-turne-sao-paulo-2017/
LOCATION:MG
CATEGORIES:Shows,Turnê,Viagens
ATTACH;FMTTYPE=image/png:https://cristiano.etc.br/wp-content/uploads/2018/08/Banner-Agenda.png
END:VEVENT
BEGIN:VEVENT
DTSTART;TZID=America/Sao_Paulo:20170906T080000
DTEND;TZID=America/Sao_Paulo:20170906T170000
DTSTAMP:20260423T162604
CREATED:20180808T142436Z
LAST-MODIFIED:20180808T142528Z
UID:1430-1504684800-1504717200@cristiano.etc.br
SUMMARY:Brasileria - Turnê São Paulo 2017
DESCRIPTION:
URL:https://cristiano.etc.br/evento/brasileria-turne-sao-paulo-2017/
LOCATION:Brasileria\, São Paulo\, Minas Gerais
CATEGORIES:Shows,Turnê,Viagens
ATTACH;FMTTYPE=image/png:https://cristiano.etc.br/wp-content/uploads/2018/08/Banner-Agenda.png
END:VEVENT
BEGIN:VEVENT
DTSTART;TZID=America/Sao_Paulo:20170903T080000
DTEND;TZID=America/Sao_Paulo:20170903T170000
DTSTAMP:20260423T162604
CREATED:20180808T142751Z
LAST-MODIFIED:20180808T142751Z
UID:1433-1504425600-1504458000@cristiano.etc.br
SUMMARY:Brasileria – Turnê São Paulo 2017
DESCRIPTION:
URL:https://cristiano.etc.br/evento/brasileria-turne-sao-paulo-2017-2/
LOCATION:Brasileria\, São Paulo\, Minas Gerais
CATEGORIES:Shows,Turnê,Viagens
ATTACH;FMTTYPE=image/png:https://cristiano.etc.br/wp-content/uploads/2018/08/Banner-Agenda.png
END:VEVENT
BEGIN:VEVENT
DTSTART;VALUE=DATE:20170827
DTEND;VALUE=DATE:20170828
DTSTAMP:20260423T162604
CREATED:20180808T143031Z
LAST-MODIFIED:20180808T144103Z
UID:1435-1503792000-1503878399@cristiano.etc.br
SUMMARY:Show de Rua Avenida Paulista Turnê SP 2017
DESCRIPTION:
URL:https://cristiano.etc.br/evento/show-de-rua-avenida-paulista-turne-sp-2017/
LOCATION:Avenida Paulista\, São Paulo\, SP
CATEGORIES:Show de Rua,Turnê,Viagens
ATTACH;FMTTYPE=image/jpeg:https://cristiano.etc.br/wp-content/uploads/2018/08/Cristiano-Nogueira-Dança-da-Vida-MASP-II-2.jpg
END:VEVENT
BEGIN:VEVENT
DTSTART;VALUE=DATE:20170825
DTEND;VALUE=DATE:20170826
DTSTAMP:20260423T162604
CREATED:20180808T144312Z
LAST-MODIFIED:20180808T144312Z
UID:1445-1503619200-1503705599@cristiano.etc.br
SUMMARY:Show de Rua Avenida Paulista Turnê SP 2017
DESCRIPTION:
URL:https://cristiano.etc.br/evento/show-de-rua-avenida-paulista-turne-sp-2017-2/
LOCATION:Avenida Paulista\, São Paulo\, SP
CATEGORIES:Show de Rua,Turnê,Viagens
ATTACH;FMTTYPE=image/jpeg:https://cristiano.etc.br/wp-content/uploads/2018/08/20170825_193556-1.jpg
END:VEVENT
BEGIN:VEVENT
DTSTART;VALUE=DATE:20170823
DTEND;VALUE=DATE:20170824
DTSTAMP:20260423T162604
CREATED:20180808T144428Z
LAST-MODIFIED:20180808T144525Z
UID:1447-1503446400-1503532799@cristiano.etc.br
SUMMARY:Show de Rua Avenida Paulista Turnê SP 2017
DESCRIPTION:
URL:https://cristiano.etc.br/evento/show-de-rua-avenida-paulista-turne-sp-2017-3/
LOCATION:Avenida Paulista\, São Paulo\, SP
CATEGORIES:Show de Rua,Turnê,Viagens
ATTACH;FMTTYPE=image/jpeg:https://cristiano.etc.br/wp-content/uploads/2018/08/20170823_173956.jpg
END:VEVENT
END:VCALENDAR